BEGIN:VCALENDAR
VERSION:2.0
PRODID:-//hacksw/handcal//NONSGML v1.0//EN
BEGIN:VEVENT
SUMMARY:Dep. Jeune R1
UID:ac141d52-d96b-4d35-a8b1-53b36e322ddd
DTSTART:20251129T230000Z
DTEND:20251130T230000Z
LOCATION:Localisation   
CATEGORIES:Sportif
STATUS:
URL;VALUE=URI:https://www.echecs-segre.fr/evenements/2025/11/30/dep-jeune-r1-2443771
END:VEVENT
END:VCALENDAR
