BEGIN:VCALENDAR
VERSION:2.0
PRODID:-//hacksw/handcal//NONSGML v1.0//EN
BEGIN:VEVENT
SUMMARY:Dep. Jeune R2
UID:f79466f7-40d0-4f9e-a1bc-bdbeef8a9f18
DTSTART:20251214T131500Z
DTEND:20251214T230000Z
LOCATION:Localisation   
CATEGORIES:Sportif
STATUS:
URL;VALUE=URI:https://www.echecs-segre.fr/evenements/2025/12/14/dep-jeune-r2-2443773
END:VEVENT
END:VCALENDAR
