BEGIN:VCALENDAR
VERSION:2.0
PRODID:-//hacksw/handcal//NONSGML v1.0//EN
BEGIN:VEVENT
SUMMARY:Dep. Jeune R5
UID:1ee74bac-ed23-4e4a-89d5-e8b69c4e812c
DTSTART:20260307T230000Z
DTEND:20260308T230000Z
LOCATION:Localisation   
CATEGORIES:Sportif
STATUS:
URL;VALUE=URI:https://www.echecs-segre.fr/evenements/2026/03/08/dep-jeune-r5-2443778
END:VEVENT
END:VCALENDAR
