BEGIN:VCALENDAR
VERSION:2.0
PRODID:-//hacksw/handcal//NONSGML v1.0//EN
BEGIN:VEVENT
SUMMARY:N1 J - R7
UID:0bc9447b-68e8-44aa-9dcd-3022d4e9980d
DTSTART:20260314T133000Z
DTEND:20260314T230000Z
LOCATION:Localisation   
CATEGORIES:Sportif
STATUS:
URL;VALUE=URI:https://www.echecs-segre.fr/evenements/2026/03/14/n1-j-r7-2443762
END:VEVENT
END:VCALENDAR
